BEGIN:VCALENDAR
VERSION:2.0
PRODID:spatie/icalendar-generator
NAME:Prinzengarde Düsseldorf
X-WR-CALNAME:Prinzengarde Düsseldorf
BEGIN:VTIMEZONE
TZID:Europe/Berlin
BEGIN:DAYLIGHT
DTSTART:20240331T010000
TZOFFSETFROM:+0100
TZOFFSETTO:+0200
END:DAYLIGHT
BEGIN:STANDARD
DTSTART:20241027T030000
TZOFFSETFROM:+0200
TZOFFSETTO:+0100
END:STANDARD
BEGIN:DAYLIGHT
DTSTART:20250330T010000
TZOFFSETFROM:+0100
TZOFFSETTO:+0200
END:DAYLIGHT
END:VTIMEZONE
BEGIN:VTIMEZONE
TZID:UTC
BEGIN:STANDARD
DTSTART:20230511T074221
TZOFFSETFROM:+0000
TZOFFSETTO:+0000
END:STANDARD
END:VTIMEZONE
BEGIN:VEVENT
UID:30
DTSTAMP:20240205T074221Z
SUMMARY:Kinderprinzenpaarkürung 2024
DESCRIPTION:Kürung des neuen Kinderprinzenpaares\, sowie Ehrung verdienter
  Mitglieder.
LOCATION:Heidelbergerstr. 4\n40229 Düsseldorf
IMAGE;VALUE=URI:https://www.prinzengarde-duesseldorf.de/media_thumbs/cms/bf
 b825fd-6d0a-4933-9e63-5cc25601c4e9/kinder.jpg/d01d61bf470816add470b7941431
 4c1b.jpg?q=95&fit=max&crop=519%2C346%2C0%2C0&w=500&s=7d3e9fec2da061c09a3be
 84ce5da67c1
DTSTART;TZID=Europe/Berlin:20241110T150000
END:VEVENT
END:VCALENDAR